BEGIN:VCALENDAR
VERSION:2.0
PRODID:-//acorncreekfarmstead.com - ECPv6.8.3//NONSGML v1.0//EN
CALSCALE:GREGORIAN
METHOD:PUBLISH
X-WR-CALNAME:acorncreekfarmstead.com
X-ORIGINAL-URL:https://acorncreekfarmstead.com
X-WR-CALDESC:Events for acorncreekfarmstead.com
REFRESH-INTERVAL;VALUE=DURATION:PT1H
X-Robots-Tag:noindex
X-PUBLISHED-TTL:PT1H
BEGIN:VTIMEZONE
TZID:UTC
BEGIN:STANDARD
TZOFFSETFROM:+0000
TZOFFSETTO:+0000
TZNAME:UTC
DTSTART:20260101T000000
END:STANDARD
END:VTIMEZONE
BEGIN:VEVENT
DTSTART;VALUE=DATE:20260522
DTEND;VALUE=DATE:20260524
DTSTAMP:20260419T200528
CREATED:20241207T200352Z
LAST-MODIFIED:20260205T215908Z
UID:2785-1779408000-1779580799@acorncreekfarmstead.com
SUMMARY:Homesteaders of America Conference
DESCRIPTION:Learn How to Homestead in a Weekend Conference\nJoin me at Polyface Farms in Swoope\, Virginia\, for the Learn How to Homestead in a Weekend conference! This Homesteaders of America event occurs on May 22 – 23\, 2026 \nThis unique conference helps aspiring homesteaders expedite their journey through demos\, hands-on workshops\, and lectures taught by seasoned homesteaders and small-family farmers across America. This valuable workshop is an experience you will not find elsewhere! \nHomesteaders of America conference tickets\nThis is a very small event\, and only 300 tickets are available. Tickets for this incredible event go on sale January 1\, 2026 to members. Tickets to the public will be available starting January 15\, 2026. \nMake sure to grab your tickets before they are sold out! \nOne last thing\nIn case you didn’t know\, Homesteaders of America members have the opportunity to purchase tickets before they are open to the general public. In addition to this\, members have access to view past conferences. You really need to learn more about becoming HOA a member!
URL:https://acorncreekfarmstead.com/event/homesteaders-of-america-conference-2/
ATTACH;FMTTYPE=image/webp:https://acorncreekfarmstead.com/wp-content/uploads/2024/12/2026-homestead-in-a-weekend-flyer-1.webp
END:VEVENT
END:VCALENDAR